BEGIN:VCALENDAR
VERSION:2.0
PRODID:spatie/icalendar-generator
DESCRIPTION:Events from AECatering
X-WR-CALDESC:Events from AECatering
REFRESH-INTERVAL;VALUE=DURATION:PT1440M
X-PUBLISHED-TTL:PT1440M
BEGIN:VTIMEZONE
TZID:Etc/GMT+0
BEGIN:STANDARD
DTSTART:20210215T100000Z
TZOFFSETFROM:+0000
TZOFFSETTO:+0000
END:STANDARD
END:VTIMEZONE
BEGIN:VTIMEZONE
TZID:UTC
BEGIN:STANDARD
DTSTART:20250729T103036Z
TZOFFSETFROM:+0000
TZOFFSETTO:+0000
END:STANDARD
END:VTIMEZONE
BEGIN:VEVENT
UID:101-51
DTSTAMP:20260425T103036Z
SUMMARY:UN CAFÉ CON ...
LOCATION:
ORGANIZER;CN=AECatering:MAILTO:comunicacion@aecatering.es
DTSTART;TZID=Etc/GMT+0:20211112T100000
DTEND;TZID=Etc/GMT+0:20211112T110000
X-ALT-DESC;FMTTYPE=TEXT/HTML:
CATEGORIES:Asambleas
URL;VALUE=URI:http://aecatering.es/mc-events/un-cafe-con-3/
METHOD:PUBLISH
END:VEVENT
END:VCALENDAR