BEGIN:VCALENDAR
VERSION:2.0
PRODID:spatie/icalendar-generator
DESCRIPTION:Events from AECatering
X-WR-CALDESC:Events from AECatering
REFRESH-INTERVAL;VALUE=DURATION:PT1440M
X-PUBLISHED-TTL:PT1440M
BEGIN:VTIMEZONE
TZID:Etc/GMT+0
BEGIN:STANDARD
DTSTART:20210306T093000Z
TZOFFSETFROM:+0000
TZOFFSETTO:+0000
END:STANDARD
END:VTIMEZONE
BEGIN:VTIMEZONE
TZID:UTC
BEGIN:STANDARD
DTSTART:20250725T100027Z
TZOFFSETFROM:+0000
TZOFFSETTO:+0000
END:STANDARD
END:VTIMEZONE
BEGIN:VEVENT
UID:102-52
DTSTAMP:20260421T100027Z
SUMMARY:ASAMBLEA ANUAL
LOCATION:
ORGANIZER;CN=AECatering:MAILTO:comunicacion@aecatering.es
DTSTART;TZID=Etc/GMT+0:20211201T093000
DTEND;TZID=Etc/GMT+0:20211201T103000
X-ALT-DESC;FMTTYPE=TEXT/HTML:
CATEGORIES:Asambleas
URL;VALUE=URI:http://aecatering.es/mc-events/asamblea-anual/
METHOD:PUBLISH
END:VEVENT
END:VCALENDAR