BEGIN:VCALENDAR
VERSION:2.0
PRODID:spatie/icalendar-generator
DESCRIPTION:Events from AECatering
X-WR-CALDESC:Events from AECatering
REFRESH-INTERVAL;VALUE=DURATION:PT1440M
X-PUBLISHED-TTL:PT1440M
BEGIN:VTIMEZONE
TZID:Etc/GMT+0
BEGIN:STANDARD
DTSTART:20210218T120000Z
TZOFFSETFROM:+0000
TZOFFSETTO:+0000
END:STANDARD
END:VTIMEZONE
BEGIN:VTIMEZONE
TZID:UTC
BEGIN:STANDARD
DTSTART:20250725T082234Z
TZOFFSETFROM:+0000
TZOFFSETTO:+0000
END:STANDARD
END:VTIMEZONE
BEGIN:VEVENT
UID:104-44
DTSTAMP:20260421T082234Z
SUMMARY:JORNADA SEVILLA
LOCATION:ESPACIO LIENZO  EDIFICIO VEGA 1 Calle Almutamid\, 6\,  CAMAS SEVIL
 LA  41900
ORGANIZER;CN=AECatering:MAILTO:comunicacion@aecatering.es
DTSTART;TZID=Etc/GMT+0:20211115T120000
DTEND;TZID=Etc/GMT+0:20211115T130000
X-ALT-DESC;FMTTYPE=TEXT/HTML:&amp;nbsp\;
CATEGORIES:Jornadas
URL;VALUE=URI:http://aecatering.es/mc-events/jornada-sevilla/
METHOD:PUBLISH
END:VEVENT
END:VCALENDAR