BEGIN:VCALENDAR
VERSION:2.0
PRODID:spatie/icalendar-generator
DESCRIPTION:Events from AECatering
X-WR-CALDESC:Events from AECatering
REFRESH-INTERVAL;VALUE=DURATION:PT1440M
X-PUBLISHED-TTL:PT1440M
BEGIN:VTIMEZONE
TZID:Etc/GMT+0
BEGIN:STANDARD
DTSTART:20210325T100000Z
TZOFFSETFROM:+0000
TZOFFSETTO:+0000
END:STANDARD
END:VTIMEZONE
BEGIN:VTIMEZONE
TZID:UTC
BEGIN:STANDARD
DTSTART:20250727T100059Z
TZOFFSETFROM:+0000
TZOFFSETTO:+0000
END:STANDARD
END:VTIMEZONE
BEGIN:VEVENT
UID:108-55
DTSTAMP:20260423T100059Z
SUMMARY:ASAMBLEA GENERAL Y JORNADA ASOCIACIÓN EMPRESARIAL DE CATERING AEC 
 2021
LOCATION:CENTRO COMERCIAL ABC SERRANO C. Serrano\, 61\,   MADRID MADRID 280
 06
ORGANIZER;CN=AECatering:MAILTO:comunicacion@aecatering.es
DTSTART;TZID=Etc/GMT+0:20211220T100000
DTEND;TZID=Etc/GMT+0:20211220T110000
X-ALT-DESC;FMTTYPE=TEXT/HTML:El lunes 20 de diciembre a las 10.00 horas cel
 ebraremos nuestra Asamblea Anual 2021 en la Asociación Empresarial de Cat
 ering AEC. El orden del día será el siguiente: 10.00 horas   Asamblea 
 General Ordinaria 10.45 horas   Ponencias Jornada formativa 12.00 horas
    Mesa de expertos 12.30 horas   Mesas de trabajo 13.00 horas   Fin
  del evento Te animamos&amp;hellip\;
CATEGORIES:Asambleas
URL;VALUE=URI:http://aecatering.es/mc-events/asamblea-general-y-jornada-aso
 ciacion-empresarial-de-catering-aec-2021/
METHOD:PUBLISH
END:VEVENT
END:VCALENDAR