BEGIN:VCALENDAR
VERSION:2.0
PRODID:spatie/icalendar-generator
DESCRIPTION:Events from AECatering
X-WR-CALDESC:Events from AECatering
REFRESH-INTERVAL;VALUE=DURATION:PT1440M
X-PUBLISHED-TTL:PT1440M
BEGIN:VTIMEZONE
TZID:Etc/GMT+0
BEGIN:STANDARD
DTSTART:20190908T110000Z
TZOFFSETFROM:+0000
TZOFFSETTO:+0000
END:STANDARD
END:VTIMEZONE
BEGIN:VTIMEZONE
TZID:UTC
BEGIN:STANDARD
DTSTART:20250726T095303Z
TZOFFSETFROM:+0000
TZOFFSETTO:+0000
END:STANDARD
END:VTIMEZONE
BEGIN:VEVENT
UID:51-8
DTSTAMP:20260422T095303Z
SUMMARY:WEBINAR SOBRE PRODUCTOS DE PROXIMIDAD\, PRODUCTOS DE OPORTUNIDAD
LOCATION:Reunión telemática vía Zoom - Video Conference Meeting -  Reuni
 ón Telemática
ORGANIZER;CN=AECatering:MAILTO:comunicacion@aecatering.es
DTSTART;TZID=Etc/GMT+0:20200604T110000
DTEND;TZID=Etc/GMT+0:20200604T120000
X-ALT-DESC;FMTTYPE=TEXT/HTML:Desde la ASOCIACIÓN EMPRESARIAL DE CATERING A
 EC estamos realizando webinars donde ponemos en común contenidos para pod
 er seguir adelante a la hora de gestionar nuestro trabajo diario. Jueves 4
  de junio a las 11.00 horas                    \"La cri
 sis provocada por el Covid 19 ha supuesto un cambio de paradigma en todas 
 las escalas de la vida&amp;hellip\;
CATEGORIES:Jornadas
URL;VALUE=URI:http://aecatering.es/mc-events/webinar-sobre-productos-de-pro
 ximidad-productos-de-oportunidad/
METHOD:PUBLISH
END:VEVENT
END:VCALENDAR