BEGIN:VCALENDAR
VERSION:2.0
PRODID:spatie/icalendar-generator
DESCRIPTION:Events from AECatering
X-WR-CALDESC:Events from AECatering
REFRESH-INTERVAL;VALUE=DURATION:PT1440M
X-PUBLISHED-TTL:PT1440M
BEGIN:VTIMEZONE
TZID:Etc/GMT+0
BEGIN:STANDARD
DTSTART:20190922T110000Z
TZOFFSETFROM:+0000
TZOFFSETTO:+0000
END:STANDARD
END:VTIMEZONE
BEGIN:VTIMEZONE
TZID:UTC
BEGIN:STANDARD
DTSTART:20250724T110613Z
TZOFFSETFROM:+0000
TZOFFSETTO:+0000
END:STANDARD
END:VTIMEZONE
BEGIN:VEVENT
UID:53-10
DTSTAMP:20260420T110613Z
SUMMARY:WEBINAR SOBRE EL FUTURO DEL SECTOR DE LAS EMPRESAS DE CATERING
LOCATION:Reunión telemática vía Zoom - Video Conference Meeting -  Reuni
 ón Telemática
ORGANIZER;CN=AECatering:MAILTO:comunicacion@aecatering.es
DTSTART;TZID=Etc/GMT+0:20200618T110000
DTEND;TZID=Etc/GMT+0:20200618T140000
X-ALT-DESC;FMTTYPE=TEXT/HTML:&amp;nbsp\; A continuación me pongo en contacto c
 ontigo para comunicarte que siguiendo la línea formativa de la ASOCIACI
 ÓN EMPRESARIAL DE CATERING AEC estamos realizando webinars semanales dond
 e ponemos en común contenidos para poder seguir adelante a la hora de ges
 tionar nuestro trabajo diario. Jueves 18 de junio a las 11.00 horas   
                  \" Durante el evento intentaremos&amp;hellip\
 ;
CATEGORIES:General
URL;VALUE=URI:http://aecatering.es/mc-events/webinar-sobre-el-futuro-del-se
 ctor-de-las-empresas-de-catering/
METHOD:PUBLISH
END:VEVENT
END:VCALENDAR