BEGIN:VCALENDAR
VERSION:2.0
PRODID:spatie/icalendar-generator
DESCRIPTION:Events from AECatering
X-WR-CALDESC:Events from AECatering
REFRESH-INTERVAL;VALUE=DURATION:PT1440M
X-PUBLISHED-TTL:PT1440M
BEGIN:VTIMEZONE
TZID:Etc/GMT+0
BEGIN:STANDARD
DTSTART:20190926T110000Z
TZOFFSETFROM:+0000
TZOFFSETTO:+0000
END:STANDARD
END:VTIMEZONE
BEGIN:VTIMEZONE
TZID:UTC
BEGIN:STANDARD
DTSTART:20250724T121646Z
TZOFFSETFROM:+0000
TZOFFSETTO:+0000
END:STANDARD
END:VTIMEZONE
BEGIN:VEVENT
UID:54-11
DTSTAMP:20260420T121646Z
SUMMARY:WEBINAR SOBRE EL CORONAVIRUS Y LA PREVENCIÓN DE RIESGOS LABORALES
LOCATION:Reunión telemática vía Zoom - Video Conference Meeting -  Reuni
 ón Telemática
ORGANIZER;CN=AECatering:MAILTO:comunicacion@aecatering.es
DTSTART;TZID=Etc/GMT+0:20200622T110000
DTEND;TZID=Etc/GMT+0:20200622T123000
X-ALT-DESC;FMTTYPE=TEXT/HTML:&amp;nbsp\; Siguiendo la línea formativa de la AS
 OCIACIÓN EMPRESARIAL DE CATERING AEC estamos realizando webinars semanale
 s donde ponemos en común contenidos para poder seguir adelante a la hora 
 de gestionar nuestro trabajo diario. Lunes 22 de junio a las 11.00 horas 
                    Durante este evento contestaremos a l
 as siguientes preguntas y puntos a tener en cuenta: &amp;hellip\;
CATEGORIES:Jornadas
URL;VALUE=URI:http://aecatering.es/mc-events/webinar-sobre-el-coronavirus-y
 -la-prevencion-de-riesgos-laborales/
METHOD:PUBLISH
END:VEVENT
END:VCALENDAR