BEGIN:VCALENDAR
VERSION:2.0
PRODID:spatie/icalendar-generator
DESCRIPTION:Events from AECatering
X-WR-CALDESC:Events from AECatering
REFRESH-INTERVAL;VALUE=DURATION:PT1440M
X-PUBLISHED-TTL:PT1440M
BEGIN:VTIMEZONE
TZID:Etc/GMT+0
BEGIN:STANDARD
DTSTART:20191005T100000Z
TZOFFSETFROM:+0000
TZOFFSETTO:+0000
END:STANDARD
END:VTIMEZONE
BEGIN:VTIMEZONE
TZID:UTC
BEGIN:STANDARD
DTSTART:20250724T110422Z
TZOFFSETFROM:+0000
TZOFFSETTO:+0000
END:STANDARD
END:VTIMEZONE
BEGIN:VEVENT
UID:56-12
DTSTAMP:20260420T110422Z
SUMMARY:Encuentro Foro Mice (Presencial y virtual)
LOCATION:
ORGANIZER;CN=AECatering:MAILTO:comunicacion@aecatering.es
DTSTART;TZID=Etc/GMT+0:20200701T100000
DTEND;TZID=Etc/GMT+0:20200701T110000
X-ALT-DESC;FMTTYPE=TEXT/HTML:Reserva tu plaza
CATEGORIES:General
URL;VALUE=URI:http://aecatering.es/mc-events/encuentro-foro-mice-presencial
 -y-virtual/
METHOD:PUBLISH
END:VEVENT
END:VCALENDAR