BEGIN:VCALENDAR
VERSION:2.0
PRODID:spatie/icalendar-generator
DESCRIPTION:Events from AECatering
X-WR-CALDESC:Events from AECatering
REFRESH-INTERVAL;VALUE=DURATION:PT1440M
X-PUBLISHED-TTL:PT1440M
BEGIN:VTIMEZONE
TZID:Etc/GMT+0
BEGIN:STANDARD
DTSTART:20191021T110000Z
TZOFFSETFROM:+0000
TZOFFSETTO:+0000
END:STANDARD
END:VTIMEZONE
BEGIN:VTIMEZONE
TZID:UTC
BEGIN:STANDARD
DTSTART:20250724T123301Z
TZOFFSETFROM:+0000
TZOFFSETTO:+0000
END:STANDARD
END:VTIMEZONE
BEGIN:VEVENT
UID:57-13
DTSTAMP:20260420T123301Z
SUMMARY:SAVE THE DATE: Presentación VOCALÍA SEDE ESPACIO
LOCATION:Reunión telemática vía Zoom - Video Conference Meeting -  Reuni
 ón Telemática
ORGANIZER;CN=AECatering:MAILTO:comunicacion@aecatering.es
DTSTART;TZID=Etc/GMT+0:20200717T110000
DTEND;TZID=Etc/GMT+0:20200717T120000
X-ALT-DESC;FMTTYPE=TEXT/HTML:&amp;nbsp\; Buenos días !!  La Asociación la co
 nstituye un grupo de profesionales que tienen como objetivo defender los d
 erechos de las empresas de catering y que piensan en la mejora continua de
 l servicio. Como objetivo fundamental se trabaja en gestionar la concienci
 ación a los clientes y proveedores de la importancia y ventajas de contra
 tar un&amp;hellip\;
CATEGORIES:Jornadas
URL;VALUE=URI:http://aecatering.es/mc-events/save-the-date-presentacion-voc
 alia-sede-espacio/
METHOD:PUBLISH
END:VEVENT
END:VCALENDAR