BEGIN:VCALENDAR
VERSION:2.0
PRODID:spatie/icalendar-generator
DESCRIPTION:Events from AECatering
X-WR-CALDESC:Events from AECatering
REFRESH-INTERVAL;VALUE=DURATION:PT1440M
X-PUBLISHED-TTL:PT1440M
BEGIN:VTIMEZONE
TZID:Etc/GMT+0
BEGIN:STANDARD
DTSTART:20190801T130000Z
TZOFFSETFROM:+0000
TZOFFSETTO:+0000
END:STANDARD
END:VTIMEZONE
BEGIN:VTIMEZONE
TZID:UTC
BEGIN:STANDARD
DTSTART:20250726T093004Z
TZOFFSETFROM:+0000
TZOFFSETTO:+0000
END:STANDARD
END:VTIMEZONE
BEGIN:VEVENT
UID:6-3
DTSTAMP:20260422T093004Z
SUMMARY:Evento Plus + Asociación Empresarial de Catering
LOCATION:Reunión telemática vía Zoom - Video Conference Meeting -  Reuni
 ón Telemática
ORGANIZER;CN=AECatering:MAILTO:comunicacion@aecatering.es
DTSTART;TZID=Etc/GMT+0:20200427T130000
DTEND;TZID=Etc/GMT+0:20200427T140000
X-ALT-DESC;FMTTYPE=TEXT/HTML:&amp;nbsp\; En colaboración con EVENTO PLUS y la
  Asociación Española de Catering AEC\, cinco empresas de catering viene
 n a contarnos lo que están haciendo para enfrentarse a la situación actu
 al y las formas de trabajar que están definiendo para hacer eventos de fo
 rma segura en cuanto podamos. Podrás entender (y preguntar sobre) estas i
 niciativas\, pero también&amp;hellip\;
CATEGORIES:Jornadas
URL;VALUE=URI:http://aecatering.es/mc-events/evento-plus-asociacion-empresa
 rial-de-catering/
METHOD:PUBLISH
END:VEVENT
END:VCALENDAR