BEGIN:VCALENDAR
VERSION:2.0
PRODID:spatie/icalendar-generator
DESCRIPTION:Events from AECatering
X-WR-CALDESC:Events from AECatering
REFRESH-INTERVAL;VALUE=DURATION:PT1440M
X-PUBLISHED-TTL:PT1440M
BEGIN:VTIMEZONE
TZID:Etc/GMT+0
BEGIN:STANDARD
DTSTART:20200223T120000Z
TZOFFSETFROM:+0000
TZOFFSETTO:+0000
END:STANDARD
END:VTIMEZONE
BEGIN:VTIMEZONE
TZID:UTC
BEGIN:STANDARD
DTSTART:20250726T133553Z
TZOFFSETFROM:+0000
TZOFFSETTO:+0000
END:STANDARD
END:VTIMEZONE
BEGIN:VEVENT
UID:65-20
DTSTAMP:20260422T133553Z
SUMMARY:WEBINAR EVENTO PLUS
LOCATION:
ORGANIZER;CN=AECatering:MAILTO:comunicacion@aecatering.es
DTSTART;TZID=Etc/GMT+0:20201119T120000
DTEND;TZID=Etc/GMT+0:20201119T130000
X-ALT-DESC;FMTTYPE=TEXT/HTML:-WEBINAR EVENTO PLUS https://www.eventoplus.co
 m/ https://www.eventoplus.com/webinar/  &amp;nbsp\;
CATEGORIES:General
URL;VALUE=URI:http://aecatering.es/mc-events/webinar-evento-plus/
METHOD:PUBLISH
END:VEVENT
END:VCALENDAR