BEGIN:VCALENDAR
VERSION:2.0
PRODID:spatie/icalendar-generator
DESCRIPTION:Events from AECatering
X-WR-CALDESC:Events from AECatering
REFRESH-INTERVAL;VALUE=DURATION:PT1440M
X-PUBLISHED-TTL:PT1440M
BEGIN:VTIMEZONE
TZID:Etc/GMT+0
BEGIN:STANDARD
DTSTART:20200229T100000Z
TZOFFSETFROM:+0000
TZOFFSETTO:+0000
END:STANDARD
END:VTIMEZONE
BEGIN:VTIMEZONE
TZID:UTC
BEGIN:STANDARD
DTSTART:20250726T151246Z
TZOFFSETFROM:+0000
TZOFFSETTO:+0000
END:STANDARD
END:VTIMEZONE
BEGIN:VEVENT
UID:69-21
DTSTAMP:20260422T151246Z
SUMMARY:CONGRESO AECATERING 2020
LOCATION:
ORGANIZER;CN=AECatering:MAILTO:comunicacion@aecatering.es
DTSTART;TZID=Etc/GMT+0:20201125T100000
DTEND;TZID=Etc/GMT+0:20201125T140000
X-ALT-DESC;FMTTYPE=TEXT/HTML:A continuación informamos que el próximo mi
 ércoles 25 de noviembre desde las 10.00 horas celebraremos nuestro  Cong
 reso de la Asociación Empresarial de Catering AEC 2020  \, una jornada f
 ormativa con el objetivo de impulsar la industria del Catering de Eventos:
  nuevos tiempos\, nuevos retos\, nuevas oportunidades.  [pdf-embedder url
 =\"http://aecatering.es/wp-content/uploads/2020/11/CONCRESO-HORARIOS.pdf\"
  title=\"CONCRESO HORARIOS\"]
CATEGORIES:Asambleas
URL;VALUE=URI:http://aecatering.es/mc-events/congreso-aecatering-2020/
METHOD:PUBLISH
END:VEVENT
END:VCALENDAR