BEGIN:VCALENDAR
VERSION:2.0
PRODID:spatie/icalendar-generator
DESCRIPTION:Events from AECatering
X-WR-CALDESC:Events from AECatering
REFRESH-INTERVAL;VALUE=DURATION:PT1440M
X-PUBLISHED-TTL:PT1440M
BEGIN:VTIMEZONE
TZID:Etc/GMT+0
BEGIN:STANDARD
DTSTART:20200316T110000Z
TZOFFSETFROM:+0000
TZOFFSETTO:+0000
END:STANDARD
END:VTIMEZONE
BEGIN:VTIMEZONE
TZID:UTC
BEGIN:STANDARD
DTSTART:20250726T193958Z
TZOFFSETFROM:+0000
TZOFFSETTO:+0000
END:STANDARD
END:VTIMEZONE
BEGIN:VEVENT
UID:74-26
DTSTAMP:20260422T193958Z
SUMMARY:7 CLAVES PARA AHORRAR EN EL PAGO DEL IMPUESTO DE SOCIEDADES DE 2020
 .
LOCATION:Reunión telemática vía Zoom - Video Conference Meeting -  Reuni
 ón Telemática
ORGANIZER;CN=AECatering:MAILTO:comunicacion@aecatering.es
DTSTART;TZID=Etc/GMT+0:20201211T110000
DTEND;TZID=Etc/GMT+0:20201211T120000
X-ALT-DESC;FMTTYPE=TEXT/HTML:En la Asociación Empresarial de Catering AEC
  vamos a seguir compartiendo periódicamente las novedades que van surgie
 ndo en un foro online participativo y profesional. &amp;nbsp\; La próxima r
 eunión será el viernes 11 de diciembre a las 11.00 horas. &amp;nbsp\; En 
 esta ocasión tendremos a Rafael Pelegrina que nos contará: &amp;nbsp\; 7 CLA
 VES PARA AHORRAR EN EL PAGO DEL IMPUESTO DE SOCIEDADES DE&amp;hellip\;
CATEGORIES:Jornadas
URL;VALUE=URI:http://aecatering.es/mc-events/7-claves-para-ahorrar-en-el-pa
 go-del-impuesto-de-sociedades-de-2020/
METHOD:PUBLISH
END:VEVENT
END:VCALENDAR