BEGIN:VCALENDAR
VERSION:2.0
PRODID:spatie/icalendar-generator
DESCRIPTION:Events from AECatering
X-WR-CALDESC:Events from AECatering
REFRESH-INTERVAL;VALUE=DURATION:PT1440M
X-PUBLISHED-TTL:PT1440M
BEGIN:VTIMEZONE
TZID:Etc/GMT+0
BEGIN:STANDARD
DTSTART:20200508T100000Z
TZOFFSETFROM:+0000
TZOFFSETTO:+0000
END:STANDARD
END:VTIMEZONE
BEGIN:VTIMEZONE
TZID:UTC
BEGIN:STANDARD
DTSTART:20250726T222443Z
TZOFFSETFROM:+0000
TZOFFSETTO:+0000
END:STANDARD
END:VTIMEZONE
BEGIN:VEVENT
UID:77-27
DTSTAMP:20260422T222443Z
SUMMARY:PRIMERA JORNADA FORMATIVA DEL AÑO 2021
LOCATION:
ORGANIZER;CN=AECatering:MAILTO:comunicacion@aecatering.es
DTSTART;TZID=Etc/GMT+0:20210202T100000
DTEND;TZID=Etc/GMT+0:20210202T110000
X-ALT-DESC;FMTTYPE=TEXT/HTML:El próximo 2 de febrero a las 10.00 horas cel
 ebraremos en la Asociación Empresarial de Catering AEC la primera jornada
  formativa del año. En breve te informaremos de los contenidos. Te enviam
 os este mensaje para que te inscribas y lo reserves en tu agenda. &amp;nbsp\;
CATEGORIES:Jornadas
URL;VALUE=URI:http://aecatering.es/mc-events/primera-jornada-formativa-del-
 ano-2021/
METHOD:PUBLISH
END:VEVENT
END:VCALENDAR