BEGIN:VCALENDAR
VERSION:2.0
PRODID:spatie/icalendar-generator
DESCRIPTION:Events from AECatering
X-WR-CALDESC:Events from AECatering
REFRESH-INTERVAL;VALUE=DURATION:PT1440M
X-PUBLISHED-TTL:PT1440M
BEGIN:VTIMEZONE
TZID:Etc/GMT+0
BEGIN:STANDARD
DTSTART:20200515T100000Z
TZOFFSETFROM:+0000
TZOFFSETTO:+0000
END:STANDARD
END:VTIMEZONE
BEGIN:VTIMEZONE
TZID:UTC
BEGIN:STANDARD
DTSTART:20250726T233940Z
TZOFFSETFROM:+0000
TZOFFSETTO:+0000
END:STANDARD
END:VTIMEZONE
BEGIN:VEVENT
UID:78-29
DTSTAMP:20260422T233940Z
SUMMARY:SAVE THE DATE 09 DE FEBRERO \"Un café con...\"
LOCATION:Reunión telemática vía Zoom - Video Conference Meeting -  Reuni
 ón Telemática
ORGANIZER;CN=AECatering:MAILTO:comunicacion@aecatering.es
DTSTART;TZID=Etc/GMT+0:20210209T100000
DTEND;TZID=Etc/GMT+0:20210209T110000
X-ALT-DESC;FMTTYPE=TEXT/HTML:El próximo 9 de febrero a las 10.00 horas cel
 ebraremos en la Asociación Empresarial de Catering AEC el primer UN CAFE 
 CON del año. En breve te informaremos del contenido. Te enviamos este men
 saje para que te inscribas y lo reserves en tu agenda. Estamos seguros que
  te resultará interesante.
CATEGORIES:Desayunos de trabajo
URL;VALUE=URI:http://aecatering.es/mc-events/save-the-date-09-de-febrero-un
 -cafe-con/
METHOD:PUBLISH
END:VEVENT
END:VCALENDAR