BEGIN:VCALENDAR
VERSION:2.0
PRODID:spatie/icalendar-generator
DESCRIPTION:Events from AECatering
X-WR-CALDESC:Events from AECatering
REFRESH-INTERVAL;VALUE=DURATION:PT1440M
X-PUBLISHED-TTL:PT1440M
BEGIN:VTIMEZONE
TZID:Etc/GMT+0
BEGIN:STANDARD
DTSTART:20200523T100000Z
TZOFFSETFROM:+0000
TZOFFSETTO:+0000
END:STANDARD
END:VTIMEZONE
BEGIN:VTIMEZONE
TZID:UTC
BEGIN:STANDARD
DTSTART:20250727T010620Z
TZOFFSETFROM:+0000
TZOFFSETTO:+0000
END:STANDARD
END:VTIMEZONE
BEGIN:VEVENT
UID:79-30
DTSTAMP:20260423T010620Z
SUMMARY:LA RESPONSABILIDAD EN EL SECTOR DE LOS EVENTOS
LOCATION:
ORGANIZER;CN=AECatering:MAILTO:comunicacion@aecatering.es
DTSTART;TZID=Etc/GMT+0:20210217T100000
DTEND;TZID=Etc/GMT+0:20210217T110000
X-ALT-DESC;FMTTYPE=TEXT/HTML:Miércoles 17 de febrero a las 10.00 horas Sin
  duda la responsabilidad / sostenibilidad jugarán un papel fundamental en
  la recuperación del sector este 2021. Por este motivo\, Grupo Eventoplus
  organiza un webinar al respecto con algunos de los principales actores de
 l sector entre ellos la Asociación Empresarial de Catering AEC donde expl
 icaremos cómo nos&amp;hellip\;
CATEGORIES:General
URL;VALUE=URI:http://aecatering.es/mc-events/la-responsabilidad-en-el-secto
 r-de-los-eventos/
METHOD:PUBLISH
END:VEVENT
END:VCALENDAR