BEGIN:VCALENDAR
VERSION:2.0
PRODID:spatie/icalendar-generator
DESCRIPTION:Events from AECatering
X-WR-CALDESC:Events from AECatering
REFRESH-INTERVAL;VALUE=DURATION:PT1440M
X-PUBLISHED-TTL:PT1440M
BEGIN:VTIMEZONE
TZID:Etc/GMT+0
BEGIN:STANDARD
DTSTART:20200605T110000Z
TZOFFSETFROM:+0000
TZOFFSETTO:+0000
END:STANDARD
END:VTIMEZONE
BEGIN:VTIMEZONE
TZID:UTC
BEGIN:STANDARD
DTSTART:20250727T004855Z
TZOFFSETFROM:+0000
TZOFFSETTO:+0000
END:STANDARD
END:VTIMEZONE
BEGIN:VEVENT
UID:83-33
DTSTAMP:20260423T004855Z
SUMMARY:SAVE THE DATE AEC Jornada Formativa 2 de marzo
LOCATION:
ORGANIZER;CN=AECatering:MAILTO:comunicacion@aecatering.es
DTSTART;TZID=Etc/GMT+0:20210302T110000
DTEND;TZID=Etc/GMT+0:20210302T130000
X-ALT-DESC;FMTTYPE=TEXT/HTML:El próximo 2 de marzo a las 11.00 horas cele
 braremos en la Asociación Empresarial de Catering AEC la segunda jornada 
 formativa del año. En breve te informaremos de los contenidos. Te enviamo
 s este mensaje para que te inscribas y lo reserves en tu agenda\, puedes i
 nscribirte cumplimentando los datos del formulario de registro adjunto. Te
  esperamos¡&amp;hellip\;
CATEGORIES:Jornadas
URL;VALUE=URI:http://aecatering.es/mc-events/save-the-date-aec-jornada-form
 ativa-2-de-marzo-2/
METHOD:PUBLISH
END:VEVENT
END:VCALENDAR