BEGIN:VCALENDAR
VERSION:2.0
PRODID:spatie/icalendar-generator
DESCRIPTION:Events from AECatering
X-WR-CALDESC:Events from AECatering
REFRESH-INTERVAL;VALUE=DURATION:PT1440M
X-PUBLISHED-TTL:PT1440M
BEGIN:VTIMEZONE
TZID:Etc/GMT+0
BEGIN:STANDARD
DTSTART:20200614T100000Z
TZOFFSETFROM:+0000
TZOFFSETTO:+0000
END:STANDARD
END:VTIMEZONE
BEGIN:VTIMEZONE
TZID:UTC
BEGIN:STANDARD
DTSTART:20250726T232520Z
TZOFFSETFROM:+0000
TZOFFSETTO:+0000
END:STANDARD
END:VTIMEZONE
BEGIN:VEVENT
UID:84-34
DTSTAMP:20260422T232520Z
SUMMARY:AEC TE INVITA A UN CAFÉ CON ....
LOCATION:
ORGANIZER;CN=AECatering:MAILTO:comunicacion@aecatering.es
DTSTART;TZID=Etc/GMT+0:20210311T100000
DTEND;TZID=Etc/GMT+0:20210311T120000
X-ALT-DESC;FMTTYPE=TEXT/HTML:Un nueva jornada de encuentro con AEC donde de
 batimos\, compartimos y avanzamos juntos. Jueves 11 de Marzo\, 10:00
CATEGORIES:Asambleas
URL;VALUE=URI:http://aecatering.es/mc-events/aec-te-invita-a-un-cafe-con/
METHOD:PUBLISH
END:VEVENT
END:VCALENDAR