BEGIN:VCALENDAR
VERSION:2.0
PRODID:spatie/icalendar-generator
DESCRIPTION:Events from AECatering
X-WR-CALDESC:Events from AECatering
REFRESH-INTERVAL;VALUE=DURATION:PT1440M
X-PUBLISHED-TTL:PT1440M
BEGIN:VTIMEZONE
TZID:Etc/GMT+0
BEGIN:STANDARD
DTSTART:20200627T110000Z
TZOFFSETFROM:+0000
TZOFFSETTO:+0000
END:STANDARD
END:VTIMEZONE
BEGIN:VTIMEZONE
TZID:UTC
BEGIN:STANDARD
DTSTART:20250726T220910Z
TZOFFSETFROM:+0000
TZOFFSETTO:+0000
END:STANDARD
END:VTIMEZONE
BEGIN:VEVENT
UID:85-35
DTSTAMP:20260422T220910Z
SUMMARY:AEC TE INVITA A UN CAFÉ CON....: \"AYUDAS Y POSIBLES SOLUCIONES\"
LOCATION:
ORGANIZER;CN=AECatering:MAILTO:comunicacion@aecatering.es
DTSTART;TZID=Etc/GMT+0:20210324T110000
DTEND;TZID=Etc/GMT+0:20210324T130000
X-ALT-DESC;FMTTYPE=TEXT/HTML:Miércoles 24 de marzo a las 11.00 horas En la
  Asociación Empresarial de Catering AEC compartimos periódicamente las n
 ovedades que van surgiendo en un foro participativo y profesional. En est
 a ocasión tendremos oportunidad de analizar de la mano de Francisco Molin
 a de STERLING ABOGADOS: CLAVES SOBRE LAS NUEVAS AYUDAS PLANTEADAS POR EL G
 OBIERNO Y POSIBLES SOLUCIONES&amp;hellip\;
CATEGORIES:Asambleas
URL;VALUE=URI:http://aecatering.es/mc-events/aec-te-invita-a-un-cafe-con-ay
 udas-y-posibles-soluciones/
METHOD:PUBLISH
END:VEVENT
END:VCALENDAR