BEGIN:VCALENDAR
VERSION:2.0
PRODID:spatie/icalendar-generator
DESCRIPTION:Events from AECatering
X-WR-CALDESC:Events from AECatering
REFRESH-INTERVAL;VALUE=DURATION:PT1440M
X-PUBLISHED-TTL:PT1440M
BEGIN:VTIMEZONE
TZID:Etc/GMT+0
BEGIN:STANDARD
DTSTART:20200712T170000Z
TZOFFSETFROM:+0000
TZOFFSETTO:+0000
END:STANDARD
END:VTIMEZONE
BEGIN:VTIMEZONE
TZID:UTC
BEGIN:STANDARD
DTSTART:20250726T205301Z
TZOFFSETFROM:+0000
TZOFFSETTO:+0000
END:STANDARD
END:VTIMEZONE
BEGIN:VEVENT
UID:86-36
DTSTAMP:20260422T205301Z
SUMMARY:Invitación Webinar Asepeyo
LOCATION:
ORGANIZER;CN=AECatering:MAILTO:comunicacion@aecatering.es
DTSTART;TZID=Etc/GMT+0:20210408T170000
DTEND;TZID=Etc/GMT+0:20210408T180000
X-ALT-DESC;FMTTYPE=TEXT/HTML:&amp;nbsp\; La COVID-19 está en el aire. La trans
 misión por aerosoles Conjunto de medidas para evitar el contagio de la Co
 vid-19 y su transmisión por aerosoles. https://prevencion.asepeyo.es/docu
 mento/https-prevencion-asepeyo-es-documento-la-covid-19-esta-en-el-aire-la
 -transmision-por-aerosoles/ Cámara Acústica. Visualizar riesgos por ruid
 o en la empresa El uso de la cámara acústica en higiene industrial se co
 nvierte en un elemento imprescindible para la mejora de&amp;hellip\;
CATEGORIES:Asambleas
URL;VALUE=URI:http://aecatering.es/mc-events/invitacion-webinar-asepeyo/
METHOD:PUBLISH
END:VEVENT
END:VCALENDAR