BEGIN:VCALENDAR
VERSION:2.0
PRODID:spatie/icalendar-generator
DESCRIPTION:Events from AECatering
X-WR-CALDESC:Events from AECatering
REFRESH-INTERVAL;VALUE=DURATION:PT1440M
X-PUBLISHED-TTL:PT1440M
BEGIN:VTIMEZONE
TZID:Etc/GMT+0
BEGIN:STANDARD
DTSTART:20200720T100000Z
TZOFFSETFROM:+0000
TZOFFSETTO:+0000
END:STANDARD
END:VTIMEZONE
BEGIN:VTIMEZONE
TZID:UTC
BEGIN:STANDARD
DTSTART:20250726T192915Z
TZOFFSETFROM:+0000
TZOFFSETTO:+0000
END:STANDARD
END:VTIMEZONE
BEGIN:VEVENT
UID:88-38
DTSTAMP:20260422T192915Z
SUMMARY:EL LIDERAZGO FEMENINO EN EL SECTOR DE LOS EVENTOS
LOCATION:
ORGANIZER;CN=AECatering:MAILTO:comunicacion@aecatering.es
DTSTART;TZID=Etc/GMT+0:20210416T100000
DTEND;TZID=Etc/GMT+0:20210416T120000
X-ALT-DESC;FMTTYPE=TEXT/HTML:El próximo 16 de abril a las 10.00 horas cele
 braremos en la Asociación Empresarial de Catering AEC la tercera jornada
  formativa del año. Te enviamos este mensaje con toda la información par
 a que te inscribas y lo reserves en tu agenda. AGENDA DE LA JORNADA INSCR
 IPCIÓN
CATEGORIES:General,  Jornadas
URL;VALUE=URI:http://aecatering.es/mc-events/el-liderazgo-femenino-en-el-se
 ctor-de-los-eventos/
METHOD:PUBLISH
END:VEVENT
END:VCALENDAR