BEGIN:VCALENDAR
VERSION:2.0
PRODID:spatie/icalendar-generator
DESCRIPTION:Events from AECatering
X-WR-CALDESC:Events from AECatering
REFRESH-INTERVAL;VALUE=DURATION:PT1440M
X-PUBLISHED-TTL:PT1440M
BEGIN:VTIMEZONE
TZID:Etc/GMT+0
BEGIN:STANDARD
DTSTART:20200730T100000Z
TZOFFSETFROM:+0000
TZOFFSETTO:+0000
END:STANDARD
END:VTIMEZONE
BEGIN:VTIMEZONE
TZID:UTC
BEGIN:STANDARD
DTSTART:20250726T175813Z
TZOFFSETFROM:+0000
TZOFFSETTO:+0000
END:STANDARD
END:VTIMEZONE
BEGIN:VEVENT
UID:89-39
DTSTAMP:20260422T175813Z
SUMMARY:COMO LLEGAN A ESPAÑA LOS FONDOS EUROPEOS
LOCATION:Reunión telemática vía Zoom - Video Conference Meeting -  Reuni
 ón Telemática
ORGANIZER;CN=AECatering:MAILTO:comunicacion@aecatering.es
DTSTART;TZID=Etc/GMT+0:20210426T100000
DTEND;TZID=Etc/GMT+0:20210426T120000
X-ALT-DESC;FMTTYPE=TEXT/HTML:Los fondos europeos NextGenerationEU son el in
 strumento económico que contribuirá a reparar los daños económicos y s
 ociales causados por la pandemia. España recibirá 140.000 millones de eu
 ros de estos fondos europeos. Te esperamos: INSCRIPCIÓN 
CATEGORIES:Desayunos de trabajo
URL;VALUE=URI:http://aecatering.es/mc-events/como-llegan-a-espana-los-fondo
 s-europeos/
METHOD:PUBLISH
END:VEVENT
END:VCALENDAR