BEGIN:VCALENDAR
VERSION:2.0
PRODID:spatie/icalendar-generator
DESCRIPTION:Events from AECatering
X-WR-CALDESC:Events from AECatering
REFRESH-INTERVAL;VALUE=DURATION:PT1440M
X-PUBLISHED-TTL:PT1440M
BEGIN:VTIMEZONE
TZID:Etc/GMT+0
BEGIN:STANDARD
DTSTART:20200808T120000Z
TZOFFSETFROM:+0000
TZOFFSETTO:+0000
END:STANDARD
END:VTIMEZONE
BEGIN:VTIMEZONE
TZID:UTC
BEGIN:STANDARD
DTSTART:20250726T150045Z
TZOFFSETFROM:+0000
TZOFFSETTO:+0000
END:STANDARD
END:VTIMEZONE
BEGIN:VEVENT
UID:90-40
DTSTAMP:20260422T150045Z
SUMMARY:EVENTO ANDALUCÍA
LOCATION:ESPACIO LIENZO  EDIFICIO VEGA 1 Calle Almutamid\, 6\,  CAMAS SEVIL
 LA  41900
ORGANIZER;CN=AECatering:MAILTO:comunicacion@aecatering.es
DTSTART;TZID=Etc/GMT+0:20210505T120000
DTEND;TZID=Etc/GMT+0:20210505T140000
X-ALT-DESC;FMTTYPE=TEXT/HTML:Es hora de volver a compartir ideas para ayuda
 r a que 2021 sea el mejor año posible. El contexto es complicado\, pero h
 ay mucho que tenemos que hacer colectivamente para sensibilizar\, animar\,
  adaptarse a lo que piden los clientes. La Asociación Empresarial de Cate
 ring AEC organizamos una reunión entre empresas andaluzas de catering de
  Sevilla\, donde&amp;hellip\;
CATEGORIES:Jornadas
URL;VALUE=URI:http://aecatering.es/mc-events/evento-andalucia/
METHOD:PUBLISH
END:VEVENT
END:VCALENDAR