BEGIN:VCALENDAR
VERSION:2.0
PRODID:spatie/icalendar-generator
DESCRIPTION:Events from AECatering
X-WR-CALDESC:Events from AECatering
REFRESH-INTERVAL;VALUE=DURATION:PT1440M
X-PUBLISHED-TTL:PT1440M
BEGIN:VTIMEZONE
TZID:Etc/GMT+0
BEGIN:STANDARD
DTSTART:20200803T100000Z
TZOFFSETFROM:+0000
TZOFFSETTO:+0000
END:STANDARD
END:VTIMEZONE
BEGIN:VTIMEZONE
TZID:UTC
BEGIN:STANDARD
DTSTART:20250726T162506Z
TZOFFSETFROM:+0000
TZOFFSETTO:+0000
END:STANDARD
END:VTIMEZONE
BEGIN:VEVENT
UID:91-41
DTSTAMP:20260422T162506Z
SUMMARY:Ayudas\, subvenciones y soluciones para el sector del Catering
LOCATION:
ORGANIZER;CN=AECatering:MAILTO:comunicacion@aecatering.es
DTSTART;TZID=Etc/GMT+0:20210430T100000
DTEND;TZID=Etc/GMT+0:20210430T120000
X-ALT-DESC;FMTTYPE=TEXT/HTML:Ayudas\, subvenciones y soluciones para el se
 ctor del Catering INSCRIPCIÓN &amp;nbsp\;
CATEGORIES:Desayunos de trabajo
URL;VALUE=URI:http://aecatering.es/mc-events/ayudas-subvenciones-y-solucion
 es-para-el-sector-del-catering/
METHOD:PUBLISH
END:VEVENT
END:VCALENDAR