BEGIN:VCALENDAR
VERSION:2.0
PRODID:spatie/icalendar-generator
DESCRIPTION:Events from AECatering
X-WR-CALDESC:Events from AECatering
REFRESH-INTERVAL;VALUE=DURATION:PT1440M
X-PUBLISHED-TTL:PT1440M
BEGIN:VTIMEZONE
TZID:Etc/GMT+0
BEGIN:STANDARD
DTSTART:20201016T100000Z
TZOFFSETFROM:+0000
TZOFFSETTO:+0000
END:STANDARD
END:VTIMEZONE
BEGIN:VTIMEZONE
TZID:UTC
BEGIN:STANDARD
DTSTART:20250726T115601Z
TZOFFSETFROM:+0000
TZOFFSETTO:+0000
END:STANDARD
END:VTIMEZONE
BEGIN:VEVENT
UID:93-43
DTSTAMP:20260422T115601Z
SUMMARY:Jornada AEC \"SOMOS CATERING\"
LOCATION:El Antiguo Convento de Boadilla del Monte Calle las Monjas\, s/n  
 Boadilla del Monte MADRID 28660
ORGANIZER;CN=AECatering:MAILTO:comunicacion@aecatering.es
DTSTART;TZID=Etc/GMT+0:20210713T100000
DTEND;TZID=Etc/GMT+0:20210713T120000
X-ALT-DESC;FMTTYPE=TEXT/HTML:&amp;nbsp\; Martes 13 de julio a las 10.00 horas e
 n el Antiguo Convento de Boadilla. 10.00 horas        “Bienvenida
  y comienzo de la sesión”\, por Eva Pérez\, responsable de la vocalía
  de Madrid en AEC. 10.10 horas        “Situación actualizada del
  sector y de la Asociación”\, por Jesús Baranda\, presidente de AEC. 1
 0.20 horas        “Dieta mediterránea\, alimentación&amp;hellip\;
CATEGORIES:Jornadas
URL;VALUE=URI:http://aecatering.es/mc-events/jornada-aec-somos-catering/
METHOD:PUBLISH
END:VEVENT
END:VCALENDAR