BEGIN:VCALENDAR
VERSION:2.0
PRODID:spatie/icalendar-generator
DESCRIPTION:Events from AECatering
X-WR-CALDESC:Events from AECatering
REFRESH-INTERVAL;VALUE=DURATION:PT1440M
X-PUBLISHED-TTL:PT1440M
BEGIN:VTIMEZONE
TZID:Etc/GMT+0
BEGIN:STANDARD
DTSTART:20210116T100000Z
TZOFFSETFROM:+0000
TZOFFSETTO:+0000
END:STANDARD
END:VTIMEZONE
BEGIN:VTIMEZONE
TZID:UTC
BEGIN:STANDARD
DTSTART:20250724T150549Z
TZOFFSETFROM:+0000
TZOFFSETTO:+0000
END:STANDARD
END:VTIMEZONE
BEGIN:VEVENT
UID:99-49
DTSTAMP:20260420T150549Z
SUMMARY:UN CAFÉ CON ...
LOCATION:
ORGANIZER;CN=AECatering:MAILTO:comunicacion@aecatering.es
DTSTART;TZID=Etc/GMT+0:20211013T100000
DTEND;TZID=Etc/GMT+0:20211013T110000
X-ALT-DESC;FMTTYPE=TEXT/HTML:
CATEGORIES:Asambleas
URL;VALUE=URI:http://aecatering.es/mc-events/un-cafe-con-2/
METHOD:PUBLISH
END:VEVENT
END:VCALENDAR