BEGIN:VCALENDAR
VERSION:2.0
PRODID:spatie/icalendar-generator
DESCRIPTION:Events from AECatering
X-WR-CALDESC:Events from AECatering
REFRESH-INTERVAL;VALUE=DURATION:PT1440M
X-PUBLISHED-TTL:PT1440M
BEGIN:VTIMEZONE
TZID:Etc/GMT+0
BEGIN:STANDARD
DTSTART:20210124T110000Z
TZOFFSETFROM:+0000
TZOFFSETTO:+0000
END:STANDARD
END:VTIMEZONE
BEGIN:VTIMEZONE
TZID:UTC
BEGIN:STANDARD
DTSTART:20250724T150808Z
TZOFFSETFROM:+0000
TZOFFSETTO:+0000
END:STANDARD
END:VTIMEZONE
BEGIN:VEVENT
UID:106-45
DTSTAMP:20260420T150808Z
SUMMARY:JORNADA AEC BARCELONA 21 OCTUBRE 11.00
LOCATION:
ORGANIZER;CN=AECatering:MAILTO:comunicacion@aecatering.es
DTSTART;TZID=Etc/GMT+0:20211021T110000
DTEND;TZID=Etc/GMT+0:20211021T130000
X-ALT-DESC;FMTTYPE=TEXT/HTML:
CATEGORIES:Jornadas
URL;VALUE=URI:http://aecatering.es/mc-events/jornada-aec-barcelona-21-octub
 re-11-00/
METHOD:PUBLISH
END:VEVENT
END:VCALENDAR