BEGIN:VCALENDAR
VERSION:2.0
PRODID:spatie/icalendar-generator
DESCRIPTION:Events from AECatering
X-WR-CALDESC:Events from AECatering
REFRESH-INTERVAL;VALUE=DURATION:PT1440M
X-PUBLISHED-TTL:PT1440M
BEGIN:VTIMEZONE
TZID:Etc/GMT+0
BEGIN:STANDARD
DTSTART:20210522T100000Z
TZOFFSETFROM:+0000
TZOFFSETTO:+0000
END:STANDARD
END:VTIMEZONE
BEGIN:VTIMEZONE
TZID:UTC
BEGIN:STANDARD
DTSTART:20250729T115223Z
TZOFFSETFROM:+0000
TZOFFSETTO:+0000
END:STANDARD
END:VTIMEZONE
BEGIN:VEVENT
UID:109-56
DTSTAMP:20260425T115223Z
SUMMARY:REFORMA LABORAL:  aspectos que afectan a las empresas del sector de
 l catering
LOCATION:
ORGANIZER;CN=AECatering:MAILTO:comunicacion@aecatering.es
DTSTART;TZID=Etc/GMT+0:20220216T100000
DTEND;TZID=Etc/GMT+0:20220216T110000
X-ALT-DESC;FMTTYPE=TEXT/HTML:REFORMA LABORAL aspectos que afectan a las emp
 resas del sector del catering MIERCOLES 16 DE FEBRERO 10.00 HORAS INSCRIPC
 IÓN AL EVENTO VIRTUAL 
CATEGORIES:Desayunos de trabajo
URL;VALUE=URI:http://aecatering.es/mc-events/reforma-laboral-aspectos-que-a
 fectan-a-las-empresas-del-sector-del-catering/
METHOD:PUBLISH
END:VEVENT
END:VCALENDAR