BEGIN:VCALENDAR
VERSION:2.0
PRODID:spatie/icalendar-generator
DESCRIPTION:Events from AECatering
X-WR-CALDESC:Events from AECatering
REFRESH-INTERVAL;VALUE=DURATION:PT1440M
X-PUBLISHED-TTL:PT1440M
BEGIN:VTIMEZONE
TZID:Etc/GMT+0
BEGIN:STANDARD
DTSTART:20190825T110000Z
TZOFFSETFROM:+0000
TZOFFSETTO:+0000
END:STANDARD
END:VTIMEZONE
BEGIN:VTIMEZONE
TZID:UTC
BEGIN:STANDARD
DTSTART:20250726T120901Z
TZOFFSETFROM:+0000
TZOFFSETTO:+0000
END:STANDARD
END:VTIMEZONE
BEGIN:VEVENT
UID:49-6
DTSTAMP:20260422T120901Z
SUMMARY:Gestión Financiera para la transformación digital en momentos de 
 crisis
LOCATION:Reunión telemática vía Zoom - Video Conference Meeting -  Reuni
 ón Telemática
ORGANIZER;CN=AECatering:MAILTO:comunicacion@aecatering.es
DTSTART;TZID=Etc/GMT+0:20200521T110000
DTEND;TZID=Etc/GMT+0:20200521T120000
X-ALT-DESC;FMTTYPE=TEXT/HTML:En la situación de crisis actual las empresas
  tienen que buscar nuevos canales de ventas para asegurar su viabilidad a 
 corto plazo. La venta on-line se revela como una de las posibilidades de n
 egocio. Sin embargo\, antes de embarcarnos en un proyecto tenemos que sabe
 r que esto requiere una planificación financiera previa para su puesta&amp;he
 llip\;
CATEGORIES:Jornadas
URL;VALUE=URI:http://aecatering.es/mc-events/gestion-financiera-para-la-tra
 nsformacion-digital-en-momentos-de-crisis/
METHOD:PUBLISH
END:VEVENT
END:VCALENDAR