BEGIN:VCALENDAR
VERSION:2.0
PRODID:spatie/icalendar-generator
DESCRIPTION:Events from AECatering
X-WR-CALDESC:Events from AECatering
REFRESH-INTERVAL;VALUE=DURATION:PT1440M
X-PUBLISHED-TTL:PT1440M
BEGIN:VTIMEZONE
TZID:Etc/GMT+0
BEGIN:STANDARD
DTSTART:20190830T110000Z
TZOFFSETFROM:+0000
TZOFFSETTO:+0000
END:STANDARD
END:VTIMEZONE
BEGIN:VTIMEZONE
TZID:UTC
BEGIN:STANDARD
DTSTART:20250726T105416Z
TZOFFSETFROM:+0000
TZOFFSETTO:+0000
END:STANDARD
END:VTIMEZONE
BEGIN:VEVENT
UID:50-7
DTSTAMP:20260422T105416Z
SUMMARY:Webinar sobre tendencias en sostenibilidad en catering para eventos
LOCATION:Reunión telemática vía Zoom - Video Conference Meeting -  Reuni
 ón Telemática
ORGANIZER;CN=AECatering:MAILTO:comunicacion@aecatering.es
DTSTART;TZID=Etc/GMT+0:20200526T110000
DTEND;TZID=Etc/GMT+0:20200526T110000
X-ALT-DESC;FMTTYPE=TEXT/HTML:&amp;nbsp\; ¿Cómo debería ser un servicio de ca
 tering en un evento para considerar que ha tenido un buen comportamiento s
 ostenible\, y que ha satisfecho a sus clientes en materia de responsabilid
 ad social y compromiso con el cumplimiento de los Objetivos de Desarrollo 
 Sostenible de la Agenda 2030 de Naciones Unidas? En esta sesión hablaremo
 s no&amp;hellip\;
CATEGORIES:Jornadas
URL;VALUE=URI:http://aecatering.es/mc-events/webinar-sobre-tendencias-en-so
 stenibilidad-en-catering-para-eventos/
METHOD:PUBLISH
END:VEVENT
END:VCALENDAR