BEGIN:VCALENDAR
VERSION:2.0
PRODID:spatie/icalendar-generator
DESCRIPTION:Events from AECatering
X-WR-CALDESC:Events from AECatering
REFRESH-INTERVAL;VALUE=DURATION:PT1440M
X-PUBLISHED-TTL:PT1440M
BEGIN:VTIMEZONE
TZID:Etc/GMT+0
BEGIN:STANDARD
DTSTART:20190915T110000Z
TZOFFSETFROM:+0000
TZOFFSETTO:+0000
END:STANDARD
END:VTIMEZONE
BEGIN:VTIMEZONE
TZID:UTC
BEGIN:STANDARD
DTSTART:20250724T135219Z
TZOFFSETFROM:+0000
TZOFFSETTO:+0000
END:STANDARD
END:VTIMEZONE
BEGIN:VEVENT
UID:52-9
DTSTAMP:20260420T135219Z
SUMMARY:WEBINAR ASOCIACIÓN EMPRESARIAL DE CATERING - ERTES Y OTRAS MEDIDAS
  DE REESTRUCTURACIÓN
LOCATION:Reunión telemática vía Zoom - Video Conference Meeting -  Reuni
 ón Telemática
ORGANIZER;CN=AECatering:MAILTO:comunicacion@aecatering.es
DTSTART;TZID=Etc/GMT+0:20200611T110000
DTEND;TZID=Etc/GMT+0:20200611T120000
X-ALT-DESC;FMTTYPE=TEXT/HTML:&amp;nbsp\; WEBINAR SOBRE ALTERNATIVAS EMPRESARIAL
 ES DERIVADAS DE LA CRISIS DEL COVID-19: ERTES Y OTRAS MEDIDAS DE REESTRUCT
 URACIÓN A continuación me pongo en contacto contigo para comunicarte que
  siguiendo la línea formativa de la ASOCIACIÓN EMPRESARIAL DE CATERING 
 AEC estamos realizando webinars semanales donde ponemos en común contenid
 os para poder seguir adelante a la hora de gestionar&amp;hellip\;
CATEGORIES:General
URL;VALUE=URI:http://aecatering.es/mc-events/webinar-asociacion-empresarial
 -de-catering-ertes-y-otras-medidas-de-reestructuracion/
METHOD:PUBLISH
END:VEVENT
END:VCALENDAR