BEGIN:VCALENDAR
VERSION:2.0
PRODID:spatie/icalendar-generator
DESCRIPTION:Events from AECatering
X-WR-CALDESC:Events from AECatering
REFRESH-INTERVAL;VALUE=DURATION:PT1440M
X-PUBLISHED-TTL:PT1440M
BEGIN:VTIMEZONE
TZID:Etc/GMT+0
BEGIN:STANDARD
DTSTART:20191221T000000Z
TZOFFSETFROM:+0000
TZOFFSETTO:+0000
END:STANDARD
END:VTIMEZONE
BEGIN:VTIMEZONE
TZID:UTC
BEGIN:STANDARD
DTSTART:20250724T152306Z
TZOFFSETFROM:+0000
TZOFFSETTO:+0000
END:STANDARD
END:VTIMEZONE
BEGIN:VEVENT
UID:59-15
DTSTAMP:20260420T152306Z
SUMMARY:Save the date «Tercer encuentro anual foro Mice»
LOCATION:Hotel Madrid Marriott Auditorium Avenida de Aragón 400  Madrid   
 28022
ORGANIZER;CN=AECatering:MAILTO:comunicacion@aecatering.es
DTSTART;TZID=Etc/GMT+0;VALUE=DATE:20200916
DTEND;TZID=Etc/GMT+0;VALUE=DATE:20200917
X-ALT-DESC;FMTTYPE=TEXT/HTML:&amp;nbsp\; Desde AEC os informamos de la fecha de
 finitiva del tercer encuentro Anual Foro Mice\, previsto para el próximo 
 16 de septiembre de 2020 en el hotel Madrid Marriott Auditorium (Av. de Ar
 agón\, 400). Esperamos que sea de vuestro interés.
CATEGORIES:Jornadas
URL;VALUE=URI:http://aecatering.es/mc-events/save-the-date-tercer-encuentro
 -anual-foro-mice/
METHOD:PUBLISH
END:VEVENT
END:VCALENDAR