BEGIN:VCALENDAR
VERSION:2.0
PRODID:spatie/icalendar-generator
DESCRIPTION:Events from AECatering
X-WR-CALDESC:Events from AECatering
REFRESH-INTERVAL;VALUE=DURATION:PT1440M
X-PUBLISHED-TTL:PT1440M
BEGIN:VTIMEZONE
TZID:Etc/GMT+0
BEGIN:STANDARD
DTSTART:20200103T100000Z
TZOFFSETFROM:+0000
TZOFFSETTO:+0000
END:STANDARD
END:VTIMEZONE
BEGIN:VTIMEZONE
TZID:UTC
BEGIN:STANDARD
DTSTART:20250726T082213Z
TZOFFSETFROM:+0000
TZOFFSETTO:+0000
END:STANDARD
END:VTIMEZONE
BEGIN:VEVENT
UID:61-17
DTSTAMP:20260422T082213Z
SUMMARY:RECORDATORIO - JORNADA FORMATIVA Y FORO PROFESIONAL - AEC - 29 de S
 eptiembre
LOCATION:LA CASA DE MÓNICO  Av. Padre Huidobro\, s/n  ctra.de la Coruña\,
  km 9\,5
ORGANIZER;CN=AECatering:MAILTO:comunicacion@aecatering.es
DTSTART;TZID=Etc/GMT+0:20200929T100000
DTEND;TZID=Etc/GMT+0:20200929T120000
X-ALT-DESC;FMTTYPE=TEXT/HTML:&amp;nbsp\; Durante estos últimos meses se ha tra
 bajado para que\, de manera periódica\, podamos continuar adelante compar
 tiendo contenidos e información en un FORO PROFESIONAL para los socios. 
 El próximo 29 de septiembre de 10.00 a 12.00 horas celebraremos una Jorn
 ada en LA CASA DE MÓNICO ( Av. Padre Huidobro\, s/n - ctra.de la Coruña\
 , km 9\,5 )&amp;hellip\;
CATEGORIES:Jornadas
URL;VALUE=URI:http://aecatering.es/mc-events/recordatorio-jornada-formativa
 -y-foro-profesional-aec-29-de-septiembre/
METHOD:PUBLISH
END:VEVENT
END:VCALENDAR