BEGIN:VCALENDAR
VERSION:2.0
PRODID:spatie/icalendar-generator
DESCRIPTION:Events from AECatering
X-WR-CALDESC:Events from AECatering
REFRESH-INTERVAL;VALUE=DURATION:PT1440M
X-PUBLISHED-TTL:PT1440M
BEGIN:VTIMEZONE
TZID:Etc/GMT+0
BEGIN:STANDARD
DTSTART:20200109T180000Z
TZOFFSETFROM:+0000
TZOFFSETTO:+0000
END:STANDARD
END:VTIMEZONE
BEGIN:VTIMEZONE
TZID:UTC
BEGIN:STANDARD
DTSTART:20250726T093530Z
TZOFFSETFROM:+0000
TZOFFSETTO:+0000
END:STANDARD
END:VTIMEZONE
BEGIN:VEVENT
UID:62-1
DTSTAMP:20260422T093530Z
SUMMARY:CONVOCATORIA ASAMBLEA GENERAL ORDINARIA 2020
LOCATION:La Casa de la Panadería  Plaza Mayor 27  Madrid Madrid 28012
ORGANIZER;CN=AECatering:MAILTO:comunicacion@aecatering.es
DTSTART;TZID=Etc/GMT+0:20201005T180000
DTEND;TZID=Etc/GMT+0:20201005T200000
X-ALT-DESC;FMTTYPE=TEXT/HTML:&amp;nbsp\; A continuación informamos que el pró
 ximo lunes 5 de octubre de 18.00 a 20.00 horas celebraremos la Asamblea Ge
 neral Ordinaria de la Asociación Empresarial de Catering AEC 2020 en el S
 alón Real de la Casa de la Panadería situada en la Plaza Mayor de Madrid
 . Será posible también conectarse en formato online para aquellas&amp;hellip
 \;
CATEGORIES:Asambleas
URL;VALUE=URI:http://aecatering.es/mc-events/convocatoria-asamblea-general-
 ordinaria-2020/
METHOD:PUBLISH
END:VEVENT
END:VCALENDAR