BEGIN:VCALENDAR
VERSION:2.0
PRODID:spatie/icalendar-generator
DESCRIPTION:Events from AECatering
X-WR-CALDESC:Events from AECatering
REFRESH-INTERVAL;VALUE=DURATION:PT1440M
X-PUBLISHED-TTL:PT1440M
BEGIN:VTIMEZONE
TZID:Etc/GMT+0
BEGIN:STANDARD
DTSTART:20200223T000000Z
TZOFFSETFROM:+0000
TZOFFSETTO:+0000
END:STANDARD
END:VTIMEZONE
BEGIN:VTIMEZONE
TZID:UTC
BEGIN:STANDARD
DTSTART:20250726T133554Z
TZOFFSETFROM:+0000
TZOFFSETTO:+0000
END:STANDARD
END:VTIMEZONE
BEGIN:VEVENT
UID:64-19
DTSTAMP:20260422T133554Z
SUMMARY:REUNIONES REGIONALES
LOCATION:Reunión telemática vía Zoom - Video Conference Meeting -  Reuni
 ón Telemática
ORGANIZER;CN=AECatering:MAILTO:comunicacion@aecatering.es
DTSTART;TZID=Etc/GMT+0;VALUE=DATE:20201119
DTEND;TZID=Etc/GMT+0;VALUE=DATE:20201120
X-ALT-DESC;FMTTYPE=TEXT/HTML:-Reunión Regional Barcelona 09.00 -Reunión R
 egional Norte 11.00 -Reunión Regional Canarias 11:00 -Reunión Regional A
 ndalucía 12:00
CATEGORIES:General
URL;VALUE=URI:http://aecatering.es/mc-events/reuniones-regionales/
METHOD:PUBLISH
END:VEVENT
END:VCALENDAR