BEGIN:VCALENDAR
VERSION:2.0
PRODID:spatie/icalendar-generator
DESCRIPTION:Events from AECatering
X-WR-CALDESC:Events from AECatering
REFRESH-INTERVAL;VALUE=DURATION:PT1440M
X-PUBLISHED-TTL:PT1440M
BEGIN:VTIMEZONE
TZID:Etc/GMT+0
BEGIN:STANDARD
DTSTART:20200316T100000Z
TZOFFSETFROM:+0000
TZOFFSETTO:+0000
END:STANDARD
END:VTIMEZONE
BEGIN:VTIMEZONE
TZID:UTC
BEGIN:STANDARD
DTSTART:20250726T193430Z
TZOFFSETFROM:+0000
TZOFFSETTO:+0000
END:STANDARD
END:VTIMEZONE
BEGIN:VEVENT
UID:73-25
DTSTAMP:20260422T193430Z
SUMMARY:UN CAFÉ CON AEC
LOCATION:Reunión telemática vía Zoom - Video Conference Meeting -  Reuni
 ón Telemática
ORGANIZER;CN=AECatering:MAILTO:comunicacion@aecatering.es
DTSTART;TZID=Etc/GMT+0:20201211T100000
DTEND;TZID=Etc/GMT+0:20201211T120000
X-ALT-DESC;FMTTYPE=TEXT/HTML:
CATEGORIES:Desayunos de trabajo
URL;VALUE=URI:http://aecatering.es/mc-events/un-cafe-con-aec-4/
METHOD:PUBLISH
END:VEVENT
END:VCALENDAR