BEGIN:VCALENDAR
VERSION:2.0
PRODID:spatie/icalendar-generator
DESCRIPTION:Events from AECatering
X-WR-CALDESC:Events from AECatering
REFRESH-INTERVAL;VALUE=DURATION:PT1440M
X-PUBLISHED-TTL:PT1440M
BEGIN:VTIMEZONE
TZID:Etc/GMT+0
BEGIN:STANDARD
DTSTART:20200504T110000Z
TZOFFSETFROM:+0000
TZOFFSETTO:+0000
END:STANDARD
END:VTIMEZONE
BEGIN:VTIMEZONE
TZID:UTC
BEGIN:STANDARD
DTSTART:20250726T222354Z
TZOFFSETFROM:+0000
TZOFFSETTO:+0000
END:STANDARD
END:VTIMEZONE
BEGIN:VEVENT
UID:76-28
DTSTAMP:20260422T222354Z
SUMMARY:Indemnizaciones derivadas del Estado de Alarma al sector de la Host
 elería
LOCATION:
ORGANIZER;CN=AECatering:MAILTO:comunicacion@aecatering.es
DTSTART;TZID=Etc/GMT+0:20210129T110000
DTEND;TZID=Etc/GMT+0:20210129T120000
X-ALT-DESC;FMTTYPE=TEXT/HTML:Madrid Network te invita a la mesa debate: Ind
 emnizaciones derivadas del Estado de Alarma al sector de la Hostelería\, 
 con la participación de Gericó Muro &amp;amp\; Asociados\, De la Riva y Past
 or Abogados\, Asociación Noche Madrid y la Asociación Empresarial de Cat
 ering\, el viernes 29 de enero de 2021 a las 11:00 h. El sector&amp;hellip\;
CATEGORIES:Jornadas
URL;VALUE=URI:http://aecatering.es/mc-events/indemnizaciones-derivadas-del-
 estado-de-alarma-al-sector-de-la-hosteleria/
METHOD:PUBLISH
END:VEVENT
END:VCALENDAR