BEGIN:VCALENDAR
VERSION:2.0
PRODID:spatie/icalendar-generator
DESCRIPTION:Events from AECatering
X-WR-CALDESC:Events from AECatering
REFRESH-INTERVAL;VALUE=DURATION:PT1440M
X-PUBLISHED-TTL:PT1440M
BEGIN:VTIMEZONE
TZID:Etc/GMT+0
BEGIN:STANDARD
DTSTART:20200529T100000Z
TZOFFSETFROM:+0000
TZOFFSETTO:+0000
END:STANDARD
END:VTIMEZONE
BEGIN:VTIMEZONE
TZID:UTC
BEGIN:STANDARD
DTSTART:20250727T035247Z
TZOFFSETFROM:+0000
TZOFFSETTO:+0000
END:STANDARD
END:VTIMEZONE
BEGIN:VEVENT
UID:80-31
DTSTAMP:20260423T035247Z
SUMMARY:VOCALIAS REGIONALES
LOCATION:
ORGANIZER;CN=AECatering:MAILTO:comunicacion@aecatering.es
DTSTART;TZID=Etc/GMT+0:20210223T100000
DTEND;TZID=Etc/GMT+0:20210223T140000
X-ALT-DESC;FMTTYPE=TEXT/HTML:Jornada Vocalías Regionales Jueves 25 de febr
 ero
CATEGORIES:General
URL;VALUE=URI:http://aecatering.es/mc-events/vocalias-regionales/
METHOD:PUBLISH
END:VEVENT
END:VCALENDAR