BEGIN:VCALENDAR
VERSION:2.0
PRODID:spatie/icalendar-generator
DESCRIPTION:Events from AECatering
X-WR-CALDESC:Events from AECatering
REFRESH-INTERVAL;VALUE=DURATION:PT1440M
X-PUBLISHED-TTL:PT1440M
BEGIN:VTIMEZONE
TZID:Etc/GMT+0
BEGIN:STANDARD
DTSTART:20200814T130000Z
TZOFFSETFROM:+0000
TZOFFSETTO:+0000
END:STANDARD
END:VTIMEZONE
BEGIN:VTIMEZONE
TZID:UTC
BEGIN:STANDARD
DTSTART:20250726T143958Z
TZOFFSETFROM:+0000
TZOFFSETTO:+0000
END:STANDARD
END:VTIMEZONE
BEGIN:VEVENT
UID:92-42
DTSTAMP:20260422T143958Z
SUMMARY:INVITACIÓN WEBINAR ASEPEYO\" GESTIÓN DE LA ENERGÍA EMOCIONAL EN 
 EL LUGAR DE TRABAJO\"
LOCATION:Reunión telemática vía Zoom - Video Conference Meeting -  Reuni
 ón Telemática
ORGANIZER;CN=AECatering:MAILTO:comunicacion@aecatering.es
DTSTART;TZID=Etc/GMT+0:20210511T130000
DTEND;TZID=Etc/GMT+0:20210511T141500
X-ALT-DESC;FMTTYPE=TEXT/HTML:&amp;nbsp\; \" GESTIÓN DE LA ENERGÍA EMOCIONAL E
 N EL LUGAR DE TRABAJO\" No sé a ti pero a mi siempre me ha gustado que mi
 s mensajes sean escuchados\, es más\, que los mensajes que recibo sepa es
 cucharlos. El martes 11 de Mayo hemos preparado para ti el webinar: “Ges
 tión de la Energía Emocional en el&amp;hellip\;
CATEGORIES:Asambleas
URL;VALUE=URI:http://aecatering.es/mc-events/invitacion-webinar-asepeyo-ges
 tion-de-la-energia-emocional-en-el-lugar-de-trabajo/
METHOD:PUBLISH
END:VEVENT
END:VCALENDAR