BEGIN:VCALENDAR
VERSION:2.0
PRODID:spatie/icalendar-generator
DESCRIPTION:Events from AECatering
X-WR-CALDESC:Events from AECatering
REFRESH-INTERVAL;VALUE=DURATION:PT1440M
X-PUBLISHED-TTL:PT1440M
BEGIN:VTIMEZONE
TZID:Etc/GMT+0
BEGIN:STANDARD
DTSTART:20210107T120000Z
TZOFFSETFROM:+0000
TZOFFSETTO:+0000
END:STANDARD
END:VTIMEZONE
BEGIN:VTIMEZONE
TZID:UTC
BEGIN:STANDARD
DTSTART:20250726T105750Z
TZOFFSETFROM:+0000
TZOFFSETTO:+0000
END:STANDARD
END:VTIMEZONE
BEGIN:VEVENT
UID:97-47
DTSTAMP:20260422T105750Z
SUMMARY:JORNADA EN PAÍS VASCO
LOCATION:
ORGANIZER;CN=AECatering:MAILTO:comunicacion@aecatering.es
DTSTART;TZID=Etc/GMT+0:20211004T120000
DTEND;TZID=Etc/GMT+0:20211004T130000
X-ALT-DESC;FMTTYPE=TEXT/HTML:
CATEGORIES:Jornadas
URL;VALUE=URI:http://aecatering.es/mc-events/jornada-en-pais-vasco/
METHOD:PUBLISH
END:VEVENT
END:VCALENDAR