BEGIN:VCALENDAR
VERSION:2.0
PRODID:spatie/icalendar-generator
DESCRIPTION:Events from AECatering
X-WR-CALDESC:Events from AECatering
REFRESH-INTERVAL;VALUE=DURATION:PT1440M
X-PUBLISHED-TTL:PT1440M
BEGIN:VTIMEZONE
TZID:Etc/GMT+0
BEGIN:STANDARD
DTSTART:20210617T110000Z
TZOFFSETFROM:+0000
TZOFFSETTO:+0000
END:STANDARD
END:VTIMEZONE
BEGIN:VTIMEZONE
TZID:UTC
BEGIN:STANDARD
DTSTART:20250727T192334Z
TZOFFSETFROM:+0000
TZOFFSETTO:+0000
END:STANDARD
END:VTIMEZONE
BEGIN:VEVENT
UID:110-57
DTSTAMP:20260423T192334Z
SUMMARY:REFORMA LABORAL: aspectos que afectan a las empresas del sector del
  catering
LOCATION:
ORGANIZER;CN=AECatering:MAILTO:comunicacion@aecatering.es
DTSTART;TZID=Etc/GMT+0:20220314T110000
DTEND;TZID=Etc/GMT+0:20220314T123000
X-ALT-DESC;FMTTYPE=TEXT/HTML:&amp;nbsp\; El próximo lunes 14 de marzo a las 11
 .00 horas en VOLANA TEST KITCHEN (Passatge Madoz\, 6\, Barcelona) celebrar
 emos un encuentro de empresas de catering para poder compartir la situaci
 ón actual y ver de qué manera podemos trabajar juntos en los proyectos q
 ue tenemos en marcha como sector del catering. La hora prevista de&amp;hellip\
 ;
CATEGORIES:Desayunos de trabajo
URL;VALUE=URI:https://aecatering.es/mc-events/reforma-laboral-aspectos-que-
 afectan-a-las-empresas-del-sector-del-catering-2/
METHOD:PUBLISH
END:VEVENT
END:VCALENDAR