BEGIN:VCALENDAR
VERSION:2.0
PRODID:spatie/icalendar-generator
DESCRIPTION:Events from AECatering
X-WR-CALDESC:Events from AECatering
REFRESH-INTERVAL;VALUE=DURATION:PT1440M
X-PUBLISHED-TTL:PT1440M
BEGIN:VTIMEZONE
TZID:Etc/GMT+0
BEGIN:STANDARD
DTSTART:20211001T100000Z
TZOFFSETFROM:+0000
TZOFFSETTO:+0000
END:STANDARD
END:VTIMEZONE
BEGIN:VTIMEZONE
TZID:UTC
BEGIN:STANDARD
DTSTART:20250727T133656Z
TZOFFSETFROM:+0000
TZOFFSETTO:+0000
END:STANDARD
END:VTIMEZONE
BEGIN:VEVENT
UID:115-62
DTSTAMP:20260423T133656Z
SUMMARY:DESAYUNO DE TRABAJO SEVILLA
LOCATION:
ORGANIZER;CN=AECatering:MAILTO:comunicacion@aecatering.es
DTSTART;TZID=Etc/GMT+0:20220628T100000
DTEND;TZID=Etc/GMT+0:20220628T110000
X-ALT-DESC;FMTTYPE=TEXT/HTML:
CATEGORIES:Desayunos de trabajo
URL;VALUE=URI:https://aecatering.es/mc-events/desayuno-de-trabajo-sevilla/
METHOD:PUBLISH
END:VEVENT
END:VCALENDAR