BEGIN:VCALENDAR
VERSION:2.0
PRODID:spatie/icalendar-generator
DESCRIPTION:Events from AECatering
X-WR-CALDESC:Events from AECatering
REFRESH-INTERVAL;VALUE=DURATION:PT1440M
X-PUBLISHED-TTL:PT1440M
BEGIN:VTIMEZONE
TZID:Etc/GMT+0
BEGIN:STANDARD
DTSTART:20210626T000000Z
TZOFFSETFROM:+0000
TZOFFSETTO:+0000
END:STANDARD
END:VTIMEZONE
BEGIN:VTIMEZONE
TZID:UTC
BEGIN:STANDARD
DTSTART:20250727T191813Z
TZOFFSETFROM:+0000
TZOFFSETTO:+0000
END:STANDARD
END:VTIMEZONE
BEGIN:VEVENT
UID:111-58
DTSTAMP:20260423T191813Z
SUMMARY:CONFLUENCE - FORO MICE -
LOCATION:
ORGANIZER;CN=AECatering:MAILTO:comunicacion@aecatering.es
DTSTART;TZID=Etc/GMT+0;VALUE=DATE:20220323
DTEND;TZID=Etc/GMT+0;VALUE=DATE:20220324
X-ALT-DESC;FMTTYPE=TEXT/HTML:La importancia de la cadena de valor y su valo
 r de confluencia para que un evento sea como exige un cliente\, percibe y 
 valora INSCRIPCIÓN: https://lnkd.in/geNuiav
CATEGORIES:Asambleas
URL;VALUE=URI:https://aecatering.es/mc-events/confluence-foro-mice/
METHOD:PUBLISH
END:VEVENT
END:VCALENDAR