BEGIN:VCALENDAR
VERSION:2.0
PRODID:spatie/icalendar-generator
DESCRIPTION:Events from AECatering
X-WR-CALDESC:Events from AECatering
REFRESH-INTERVAL;VALUE=DURATION:PT1440M
X-PUBLISHED-TTL:PT1440M
BEGIN:VTIMEZONE
TZID:Etc/GMT+0
BEGIN:STANDARD
DTSTART:20210703T000000Z
TZOFFSETFROM:+0000
TZOFFSETTO:+0000
END:STANDARD
END:VTIMEZONE
BEGIN:VTIMEZONE
TZID:UTC
BEGIN:STANDARD
DTSTART:20250727T175608Z
TZOFFSETFROM:+0000
TZOFFSETTO:+0000
END:STANDARD
END:VTIMEZONE
BEGIN:VEVENT
UID:112-59
DTSTAMP:20260423T175608Z
SUMMARY:LA ASOCIACION DE CATERING PRESENTE EN EL EVENTO DEL FORO MICE EN SE
 VILLA
LOCATION:
ORGANIZER;CN=AECatering:MAILTO:comunicacion@aecatering.es
DTSTART;TZID=Etc/GMT+0;VALUE=DATE:20220330
DTEND;TZID=Etc/GMT+0;VALUE=DATE:20220331
X-ALT-DESC;FMTTYPE=TEXT/HTML:El próximo miércoles 30 de marzo se celebrar
 á un evento en Sevilla con la TRANSFORMACIÓN como objetivo y tema princi
 pal. [pdf-embedder url=\"http://aecatering.es/wp-content/uploads/2022/03/2
 0220425-Pantalla-programa-DEF.pdf\" title=\"20220425-Pantalla programa DEF
 \"]
CATEGORIES:Jornadas
URL;VALUE=URI:https://aecatering.es/mc-events/la-asociacion-de-catering-pre
 sente-en-el-evento-del-foro-mice-en-sevilla/
METHOD:PUBLISH
END:VEVENT
END:VCALENDAR