BEGIN:VCALENDAR
VERSION:2.0
PRODID:spatie/icalendar-generator
DESCRIPTION:Events from AECatering
X-WR-CALDESC:Events from AECatering
REFRESH-INTERVAL;VALUE=DURATION:PT1440M
X-PUBLISHED-TTL:PT1440M
BEGIN:VTIMEZONE
TZID:Etc/GMT+0
BEGIN:STANDARD
DTSTART:20210906T110000Z
TZOFFSETFROM:+0000
TZOFFSETTO:+0000
END:STANDARD
END:VTIMEZONE
BEGIN:VTIMEZONE
TZID:UTC
BEGIN:STANDARD
DTSTART:20250727T162449Z
TZOFFSETFROM:+0000
TZOFFSETTO:+0000
END:STANDARD
END:VTIMEZONE
BEGIN:VEVENT
UID:113-60
DTSTAMP:20260423T162449Z
SUMMARY:DESAYUNO DE TRABAJO EN VALENCIA
LOCATION:
ORGANIZER;CN=AECatering:MAILTO:comunicacion@aecatering.es
DTSTART;TZID=Etc/GMT+0:20220603T110000
DTEND;TZID=Etc/GMT+0:20220603T120000
X-ALT-DESC;FMTTYPE=TEXT/HTML:El próximo viernes 3 de junio a las 10.00 hor
 as vamos a celebrar en la Asociación Empresarial de Catering AEC una reun
 ión con la empresas de nuestro sector para poner en común la situación 
 actual\, inquietudes y posibles soluciones. Nos gustaría contar con tu pr
 esencia para escuchar tu punto de vista. Nos reuniremos con más empresas
 &amp;hellip\;
CATEGORIES:Desayunos de trabajo
URL;VALUE=URI:https://aecatering.es/mc-events/desayuno-de-trabajo-en-valenc
 ia/
METHOD:PUBLISH
END:VEVENT
END:VCALENDAR