BEGIN:VCALENDAR
VERSION:2.0
PRODID:spatie/icalendar-generator
DESCRIPTION:Events from AECatering
X-WR-CALDESC:Events from AECatering
REFRESH-INTERVAL;VALUE=DURATION:PT1440M
X-PUBLISHED-TTL:PT1440M
BEGIN:VTIMEZONE
TZID:Etc/GMT+0
BEGIN:STANDARD
DTSTART:20211224T000000Z
TZOFFSETFROM:+0000
TZOFFSETTO:+0000
END:STANDARD
END:VTIMEZONE
BEGIN:VTIMEZONE
TZID:UTC
BEGIN:STANDARD
DTSTART:20250727T175455Z
TZOFFSETFROM:+0000
TZOFFSETTO:+0000
END:STANDARD
END:VTIMEZONE
BEGIN:VEVENT
UID:116-63
DTSTAMP:20260423T175455Z
SUMMARY:Desayuno de trabajo Madrid
LOCATION:
ORGANIZER;CN=AECatering:MAILTO:comunicacion@aecatering.es
DTSTART;TZID=Etc/GMT+0;VALUE=DATE:20220920
DTEND;TZID=Etc/GMT+0;VALUE=DATE:20220921
X-ALT-DESC;FMTTYPE=TEXT/HTML:
CATEGORIES:Desayunos de trabajo
URL;VALUE=URI:https://aecatering.es/mc-events/desayuno-de-trabajo-madrid/
METHOD:PUBLISH
END:VEVENT
END:VCALENDAR