BEGIN:VCALENDAR
VERSION:2.0
PRODID:spatie/icalendar-generator
DESCRIPTION:Events from AECatering
X-WR-CALDESC:Events from AECatering
REFRESH-INTERVAL;VALUE=DURATION:PT1440M
X-PUBLISHED-TTL:PT1440M
BEGIN:VTIMEZONE
TZID:Etc/GMT+0
BEGIN:STANDARD
DTSTART:20220212T000000Z
TZOFFSETFROM:+0000
TZOFFSETTO:+0000
END:STANDARD
END:VTIMEZONE
BEGIN:VTIMEZONE
TZID:UTC
BEGIN:STANDARD
DTSTART:20250727T235821Z
TZOFFSETFROM:+0000
TZOFFSETTO:+0000
END:STANDARD
END:VTIMEZONE
BEGIN:VEVENT
UID:123-70
DTSTAMP:20260423T235821Z
SUMMARY:Desayuno de trabajo Barcelona
LOCATION:
ORGANIZER;CN=AECatering:MAILTO:comunicacion@aecatering.es
DTSTART;TZID=Etc/GMT+0:20221109T000000
DTEND;TZID=Etc/GMT+0:20221109T010000
X-ALT-DESC;FMTTYPE=TEXT/HTML:
CATEGORIES:Desayunos de trabajo
URL;VALUE=URI:https://aecatering.es/mc-events/desayuno-de-trabajo-barcelona
 -2/
METHOD:PUBLISH
END:VEVENT
END:VCALENDAR