BEGIN:VCALENDAR
VERSION:2.0
PRODID:spatie/icalendar-generator
DESCRIPTION:Events from AECatering
X-WR-CALDESC:Events from AECatering
REFRESH-INTERVAL;VALUE=DURATION:PT1440M
X-PUBLISHED-TTL:PT1440M
BEGIN:VTIMEZONE
TZID:Etc/GMT+0
BEGIN:STANDARD
DTSTART:20220114T093000Z
TZOFFSETFROM:+0000
TZOFFSETTO:+0000
END:STANDARD
END:VTIMEZONE
BEGIN:VTIMEZONE
TZID:UTC
BEGIN:STANDARD
DTSTART:20250727T205400Z
TZOFFSETFROM:+0000
TZOFFSETTO:+0000
END:STANDARD
END:VTIMEZONE
BEGIN:VEVENT
UID:127-74
DTSTAMP:20260423T205400Z
SUMMARY:ANNUAL MEETING AEC
LOCATION:FINCA LA RIBERA  Ctra. M-305\, Km 43.8   Aranjuez  Madrid 28300
ORGANIZER;CN=AECatering:MAILTO:comunicacion@aecatering.es
DTSTART;TZID=Etc/GMT+0:20221011T093000
DTEND;TZID=Etc/GMT+0:20221011T140000
X-ALT-DESC;FMTTYPE=TEXT/HTML:&amp;nbsp\; Más información en http://aecaterin
 g.es/annual-meeting-aec/
CATEGORIES:Asambleas
URL;VALUE=URI:https://aecatering.es/mc-events/annual-meeting-aec/
METHOD:PUBLISH
END:VEVENT
END:VCALENDAR